BEGIN:VCALENDAR
VERSION:2.0
PRODID:-//hacksw/handcal//NONSGML v1.0//EN
CALSCALE:GREGORIAN
BEGIN:VEVENT
ORGANIZER;CN=Dave Inc.:MAILTO:no-reply@gcs-web.com
DTEND:
UID:7b447353-7e04-4445-b9eb-77a1b5a422c0
DTSTAMP:1777129379
LOCATION:https://edge.media-server.com/mmc/p/e28p3k7w
DESCRIPTION:Event Details https://investors.dave.com/events/event-details/dave-inc-first-quarter-2026-earnings-call\n\nWebcast: https://edge.media-server.com/mmc/p/e28p3k7w
URL;VALUE=URI:https://edge.media-server.com/mmc/p/e28p3k7w
SUMMARY:Dave Inc. - Dave Inc. First Quarter 2026 Earnings Call
DTSTART:20260505T210000Z
END:VEVENT
END:VCALENDAR